BEGIN:VCALENDAR
VERSION:2.0
PRODID:-//Immersive X//IX Add To Calendar//EN
CALSCALE:GREGORIAN
METHOD:PUBLISH
BEGIN:VEVENT
UID:ix-session-22060@immersive-x.de
DTSTAMP:20260421T083635Z
DTSTART:20251110T173000Z
DTEND:20251110T181500Z
SUMMARY:RAUM
LOCATION:RAUM — tba
DESCRIPTION:Join Rolf Meßmer from RAUM for an interactive warm-up session inside this collaborative Social VR platform. You’ll learn how to move, communicate, and customize your avatar plus discover the immersive tools that make RAUM such a powerful space for teamwork and presentations. Whether you’re new to RAUM or already familiar with virtual collaboration, this hands-on session will help you feel confident, connected, and ready for the CORPORATE sessions at IMMERSIVE X 2025.
URL;VALUE=URI:https://immersive-x.de/sessions/raum
END:VEVENT
END:VCALENDAR
